BEGIN:VCALENDAR
VERSION:2.0
PRODID:-//Tukios.com/
BEGIN:VEVENT
UID:44a5bb3b-ea55-492b-8c70-4099ff436136@www.newcomballgoodfh.com
DTSTAMP:20260424T004227Z
DTSTART:20260426T170000Z
DTEND:20260426T180000Z
SUMMARY:Graveside Service
DESCRIPTION:
URL:https://www.newcomballgoodfh.com/obituaries/brenda-dejarnette
LOCATION:Public Fork Christian Church Cemetery 1700 Jeb Stuart Highway  
	Red Oak VA 23964
GEO:36.8226853;-78.6326591
END:VEVENT
END:VCALENDAR